BEGIN:VCALENDAR
VERSION:2.0
PRODID:-//Sabre//Sabre VObject 4.5.8//EN
CALSCALE:GREGORIAN
BEGIN:VEVENT
UID:sabre-vobject-3256eb33-4a62-4a54-bdb0-6c9c8f834b07
DTSTAMP:20260420T144349Z
SUMMARY:Sonntagvorabendmesse mit Bußandacht
DESCRIPTION:https://oderding.bistum-augsburg-portal.de/sonntagvorabendmesse
 -mit-bussandacht_id1689073
DTSTART;TZID=Europe/Berlin:20260321T170000
DURATION:PT30M
LOCATION:St. Martin\, Kirchstraße 27\, 82398 Polling
END:VEVENT
END:VCALENDAR
